BEGIN:VCALENDAR
VERSION:2.0
PRODID:-//ISGW - ECPv6.13.0//NONSGML v1.0//EN
CALSCALE:GREGORIAN
METHOD:PUBLISH
X-ORIGINAL-URL:https://is-gw.ca
X-WR-CALDESC:Events for ISGW
REFRESH-INTERVAL;VALUE=DURATION:PT1H
X-Robots-Tag:noindex
X-PUBLISHED-TTL:PT1H
BEGIN:VTIMEZONE
TZID:America/Toronto
BEGIN:DAYLIGHT
TZOFFSETFROM:-0500
TZOFFSETTO:-0400
TZNAME:EDT
DTSTART:20230312T070000
END:DAYLIGHT
BEGIN:STANDARD
TZOFFSETFROM:-0400
TZOFFSETTO:-0500
TZNAME:EST
DTSTART:20231105T060000
END:STANDARD
BEGIN:DAYLIGHT
TZOFFSETFROM:-0500
TZOFFSETTO:-0400
TZNAME:EDT
DTSTART:20240310T070000
END:DAYLIGHT
BEGIN:STANDARD
TZOFFSETFROM:-0400
TZOFFSETTO:-0500
TZNAME:EST
DTSTART:20241103T060000
END:STANDARD
END:VTIMEZONE
BEGIN:VEVENT
DTSTART;TZID=America/Toronto:20241212T163000
DTEND;TZID=America/Toronto:20241212T173000
DTSTAMP:20260422T060326
CREATED:20241129T162617Z
LAST-MODIFIED:20241129T163659Z
UID:10003940-1734021000-1734024600@is-gw.ca
SUMMARY:Youth Chat: Preparing for Exams
DESCRIPTION:Join our SWIS team\, in person at ISGW\, to learn about preparing for exams\, including tools to manage your time effectively. \nAt this session we will talk about: \n\nGetting organized and making a plan\nManaging your time effectively\nMental health and wellness\, managing stress\n\nGuest Speaker:\nJean Chen\, Social Worker\, John F. Ross CVI \nView PDF flyer. \nLanguage interpretation is available\, based on need. Please register as soon as possible and be sure to complete the interpretation section of the registration form. \nFor more information contact Marcela 226-821-0524 or maltamira@is-gw.ca \n  \nThank you for your interest in this session. Registration is now closed.
URL:https://is-gw.ca/event/youth-chat-preparing-for-exams/
LOCATION:ISGW Office\, 104 Dawson Road\, Unit 102\, Guelph\, Ontario\, N1H 1A6\, Canada
CATEGORIES:SWIS Information Sessions,Youth
ATTACH;FMTTYPE=image/jpeg:https://is-gw.ca/wp-content/uploads/2024/04/YouthChat-featuregraphic.jpg
ORGANIZER;CN="Marcela Altamira":MAILTO:maltamira@is-gw.ca
END:VEVENT
BEGIN:VEVENT
DTSTART;TZID=America/Toronto:20240627T163000
DTEND;TZID=America/Toronto:20240627T173000
DTSTAMP:20260422T060326
CREATED:20240604T175946Z
LAST-MODIFIED:20240604T180320Z
UID:10003099-1719505800-1719509400@is-gw.ca
SUMMARY:Youth Chat: Human Trafficking
DESCRIPTION:Human trafficking is happening in communities across Canada\, but you have the power to help stop it.\nLearn how to recognize the signs of trafficking and how sharing your knowledge with others can save lives. \nJoin us in person at ISGW to talk about human trafficking with guest speaker Jaseth Purcell from Guelph-Wellington Women in Crisis. \nAt this session\, we will talk about: \n\nWhat is human trafficking and grooming?\nRed flags to detect human trafficking/grooming\nHow to recognize traffickers\nHow to protect yourself and your loved ones\n\nView PDF flyer. \nLanguage interpretation is available\, based on need. Please register as soon as possible and be sure to complete the interpretation section of the registration form. \nFor more information contact Marcela at 226-821-0524 or maltamira@is-gw.ca \n  \nThank you for your interest in this session. Registration is now closed.
URL:https://is-gw.ca/event/youth-chat-human-trafficking/
LOCATION:ISGW Office\, 104 Dawson Road\, Unit 102\, Guelph\, Ontario\, N1H 1A6\, Canada
CATEGORIES:Youth
ATTACH;FMTTYPE=image/jpeg:https://is-gw.ca/wp-content/uploads/2024/04/YouthChat-featuregraphic.jpg
ORGANIZER;CN="Marcela Altamira":MAILTO:maltamira@is-gw.ca
END:VEVENT
BEGIN:VEVENT
DTSTART;TZID=America/Toronto:20240425T163000
DTEND;TZID=America/Toronto:20240425T173000
DTSTAMP:20260422T060326
CREATED:20240416T135211Z
LAST-MODIFIED:20240416T144609Z
UID:10003013-1714062600-1714066200@is-gw.ca
SUMMARY:Youth Chat: Employment
DESCRIPTION:Join us in person at ISGW to talk about EMPLOYMENT with guest speaker: Semhar Fsehatsion\, Employment and Volunteer Coordinator\, Immigrant Services Guelph-Wellington. \nAt this session we will talk about: \n\nTips on writing a good resume and cover letter\nSummer employment opportunities in Guelph\nApplying for a Police Record Check\n\nView PDF flyer. \nLanguage interpretation is available\, based on need. Please register as soon as possible and be sure to complete the interpretation section of the registration form. \nFor more information contact Marcela 226-821-0524\, maltamira@is-gw.ca \n  \nThank you for your interest in this session. Registration is now closed.
URL:https://is-gw.ca/event/youth-chat-employment/
LOCATION:ISGW Office\, 104 Dawson Road\, Unit 102\, Guelph\, Ontario\, N1H 1A6\, Canada
CATEGORIES:SWIS Information Sessions,Youth
ATTACH;FMTTYPE=image/jpeg:https://is-gw.ca/wp-content/uploads/2024/04/YouthChat-featuregraphic.jpg
ORGANIZER;CN="Marcela Altamira":MAILTO:maltamira@is-gw.ca
END:VEVENT
BEGIN:VEVENT
DTSTART;TZID=America/Toronto:20240328T163000
DTEND;TZID=America/Toronto:20240328T173000
DTSTAMP:20260422T060326
CREATED:20240229T200018Z
LAST-MODIFIED:20240304T163614Z
UID:10002644-1711643400-1711647000@is-gw.ca
SUMMARY:Youth Chat: Volunteering in Canada
DESCRIPTION:* Join us in person at The Grove\, 737 Woolwich St.\, Guelph\, ON N1H 3Z2 * \nAt this session we will meet at The Grove’s newest location and learn about: \n\nCommunity involvement\nBenefits of community involvement\nVolunteering and employment readiness\nVolunteer opportunities for youth in Guelph\n\nView PDF flyer. \nLanguage interpretation is available\, based on need. Please register as soon as possible and be sure to complete the interpretation section of the registration form. \nDo you want to attend online but don’t have a device? Need help with Zoom? Let us know\, we can help! \nFor more information contact Marcela 226-821-0524\, maltamira@is-gw.ca \n  \nThank you for your interest in this session. Registration is now closed.
URL:https://is-gw.ca/event/youth-chat-volunteering-in-canada/
LOCATION:The Grove – Woolwich\, 737 Woolwich St.ON N1H 3Z2\, Guelph\, Ontario\, N1H 3Z2\, Canada
CATEGORIES:Youth
ORGANIZER;CN="Marcela Altamira":MAILTO:maltamira@is-gw.ca
END:VEVENT
BEGIN:VEVENT
DTSTART;TZID=America/Toronto:20240215T163000
DTEND;TZID=America/Toronto:20240215T173000
DTSTAMP:20260422T060326
CREATED:20240131T152654Z
LAST-MODIFIED:20240131T160159Z
UID:10002570-1708014600-1708018200@is-gw.ca
SUMMARY:Youth Chat: Hope House Tour
DESCRIPTION:Join us in person at Hope House\, 10 Cork St E\, Guelph\, ON N1H 2W8 for this information session. \nGuest Speaker: Tara Hoyte\, Communications Manager\, Hope House \nFor this Youth Chat\, we’re taking a field trip to Hope House\, where we will tour the facility and learn about: \n\nCommunity supports at Hope House\nVolunteer opportunities for youth\n\nView PDF flyer. \nLanguage interpretation is available\, based on need. Please register as soon as possible and be sure to complete the interpretation section of the registration form. \nFor more information contact Marcela 226-821-0524 or maltamira@is-gw.ca \n  \nThank you for your interest in this session. Registration is now closed.
URL:https://is-gw.ca/event/youth-chat-hope-house-tour/
LOCATION:Hope House\, 10 Cork Street\, East\, Guelph\, Ontario\, N1H 2W8\, Canada
CATEGORIES:SWIS Information Sessions,Youth
ORGANIZER;CN="Marcela Altamira":MAILTO:maltamira@is-gw.ca
END:VEVENT
BEGIN:VEVENT
DTSTART;TZID=America/Toronto:20240116T160000
DTEND;TZID=America/Toronto:20240116T170000
DTSTAMP:20260422T060326
CREATED:20240109T204743Z
LAST-MODIFIED:20240109T205820Z
UID:10002560-1705420800-1705424400@is-gw.ca
SUMMARY:SWIS Youth Chat: Preparing for Exams
DESCRIPTION:At this online\, Zoom session we will talk about: \n\nGetting organized and making a plan\nManaging your time effectively\nMental health and wellness\, managing stress\nThe Grove Hubs – guest speaker Brianna Martey\, EDIIR and Outreach Coordinator\n\nView PDF flyer. \nLanguage interpretation is available\, based on need. Please register as soon as possible and be sure to complete the interpretation section of the registration form. \nDo you want to attend online but don’t have a device? Need help with Zoom? Let us know\, we can help! \nFor more information contact Marcela 226-821-0524\, maltamira@is-gw.ca \n  \nThank you for your interest in this session. Registration is now closed.
URL:https://is-gw.ca/event/swis-youth-chat-preparing-for-exams/
LOCATION:Zoom
CATEGORIES:SWIS Information Sessions
ORGANIZER;CN="Marcela Altamira":MAILTO:maltamira@is-gw.ca
END:VEVENT
BEGIN:VEVENT
DTSTART;TZID=America/Toronto:20231218T114500
DTEND;TZID=America/Toronto:20231218T123000
DTSTAMP:20260422T060326
CREATED:20231211T214129Z
LAST-MODIFIED:20231211T214258Z
UID:10002402-1702899900-1702902600@is-gw.ca
SUMMARY:Resources for Students at GCVI
DESCRIPTION:Newcomer students attending GCVI are invited to join us in person at the school to talk about some of the resources available to students at the school. \nWe will talk about: \n\nTVO Learn Mathify\nISGW Youth Chat information sessions\nYouth Leadership Program\, Youth Homework Club at ISGW\nGuidance counsellors at GCVI\, and more\n\nView PDF flyer. \nLanguage interpretation is available\, based on need. Please register as soon as possible and be sure to complete the interpretation section of the registration form. \nFor more information or to register\, contact Marcela at 226-821-0524 or malatmira@is-gw.ca \n 
URL:https://is-gw.ca/event/resources-for-students-at-gcvi/
LOCATION:Guelph Collegiate Vocational Institute\, 155 Paisley Street\, Guelph\, Ontario\, N1H 2P3\, Canada
CATEGORIES:Youth
ORGANIZER;CN="Marcela Altamira":MAILTO:maltamira@is-gw.ca
END:VEVENT
BEGIN:VEVENT
DTSTART;TZID=America/Toronto:20231212T120000
DTEND;TZID=America/Toronto:20231212T124500
DTSTAMP:20260422T060326
CREATED:20231204T185623Z
LAST-MODIFIED:20231204T191133Z
UID:10002383-1702382400-1702385100@is-gw.ca
SUMMARY:Resources for Students at John F. Ross
DESCRIPTION:Newcomer students attending John F. Ross are invited to join us in person at the school to talk about some of the resources available to students at the school. \nWe will talk about: \n\nTVO Learn Mathify\nISGW Youth Chat information sessions\nYouth Leadership Program\, Youth Homework Club at ISGW\nGuidance counsellors at John F. Ross\, School wellness room\, and more!\n\nView PDF flyer. \nLanguage interpretation is available\, based on need. Please register as soon as possible and be sure to complete the interpretation section of the registration form. \nFor more information or to register\, contact Marcela at 226-821-0524 or malatmira@is-gw.ca \n 
URL:https://is-gw.ca/event/resources-for-students-at-john-f-ross/
LOCATION:John F. Ross CVI\, 21 Meyer Drive\, Guelph\, Ontario\, N1E 4H1
CATEGORIES:Youth
ORGANIZER;CN="Marcela Altamira":MAILTO:maltamira@is-gw.ca
END:VEVENT
BEGIN:VEVENT
DTSTART;TZID=America/Toronto:20231207T163000
DTEND;TZID=America/Toronto:20231207T173000
DTSTAMP:20260422T060326
CREATED:20231127T221902Z
LAST-MODIFIED:20231128T170038Z
UID:10002376-1701966600-1701970200@is-gw.ca
SUMMARY:Youth Chat: Post-Secondary Applications
DESCRIPTION:Join us in person at ISGW or online\, using Zoom to learn about post-secondary applications with guest speaker Heather Buck\, Guidance Head\, GCVI \nAt this session we will talk about: \n\nOptions for applying for post-secondary education\nDeadlines and requirements\nFinancial assistance (grants and student loans)\nHigh school credits and volunteer hours\, etc.\n\nView PDF flyer. \nLanguage interpretation is available\, based on need. Please register as soon as possible and be sure to complete the interpretation section of the registration form. \nDo you want to attend online but don’t have a device? Need help with Zoom? Let us know\, we can help! \nFor more information contact Marcela 226-821-0524\, maltamira@is-gw.ca \nAnother Youth Chat workshop is happening on Thursday\, December 14. Join us in person at ISGW to talk about Canadian Holidays: Christmas in the Community. \n 
URL:https://is-gw.ca/event/youth-chat-post-secondary-applications/
LOCATION:ISGW Office\, 104 Dawson Road\, Unit 102\, Guelph\, Ontario\, N1H 1A6\, Canada
CATEGORIES:Youth
ORGANIZER;CN="Marcela Altamira":MAILTO:maltamira@is-gw.ca
END:VEVENT
BEGIN:VEVENT
DTSTART;TZID=America/Toronto:20231004T160000
DTEND;TZID=America/Toronto:20231004T173000
DTSTAMP:20260422T060326
CREATED:20230912T183240Z
LAST-MODIFIED:20230912T183347Z
UID:10002333-1696435200-1696440600@is-gw.ca
SUMMARY:NOW 2023 - John F. Ross
DESCRIPTION:New to Canada? Enrolled in High School?\nJoin us for Newcomer Orientation Week (NOW)!\nYouth Peer Leaders and SWIS workers have organized activities to help newcomer students: \n\nlearn about getting around the school\nconnect with other newcomer families\, peer leaders\, and friends\nlearn about resources available in schools and the wider community\n\nRefreshments to be provided! \nCome and meet Guelph’s Settlement Workers in Schools (SWIS) \nView PDF flyer. \nFor more information\, or help to register\, contact Marcela at 226-821-0524 or maltamira@is-gw.ca \n 
URL:https://is-gw.ca/event/now-2023-john-f-ross/
LOCATION:John F. Ross CVI\, 21 Meyer Drive\, Guelph\, Ontario\, N1E 4H1
CATEGORIES:SWIS Information Sessions,Youth
ATTACH;FMTTYPE=image/jpeg:https://is-gw.ca/wp-content/uploads/2022/08/SWIS-Now-graphic-e1660592267254.jpg
ORGANIZER;CN="Marcela Altamira":MAILTO:maltamira@is-gw.ca
END:VEVENT
BEGIN:VEVENT
DTSTART;TZID=America/Toronto:20230817T103000
DTEND;TZID=America/Toronto:20230817T113000
DTSTAMP:20260422T060326
CREATED:20230808T174857Z
LAST-MODIFIED:20230808T175745Z
UID:10002107-1692268200-1692271800@is-gw.ca
SUMMARY:Getting Ready for Fall Activities
DESCRIPTION:The time to register for sports and activities starting in the Fall is NOW. \nJoin our SWIS team online\, using Zoom\, to learn about: \n\nSports and activities for children and youth provided by:\n\nThe City of Guelph\nGuelph Soccer\nGuelph Minor Hockey Association\nSaultos Gymnastics\nYMCA\n\n\nThe registration process and fees\nFinancial Assistance – Free to Grow program\, Children’s Foundation Guelph and Wellington\n\nView PDF flyer. \nLanguage interpretation is available\, based on need. Please register as soon as possible and be sure to complete the interpretation section of the registration form. \nDo you want to attend but don’t have a device? ISGW can lend you a device for the purposes of attending this session. Need help with Zoom? Let us know\, we can help!  \nFor more information or to register\, contact Marcela at 226-821-0524 or maltamira@is-gw.ca \n  \nThank you for your interest in this session. Registration is now closed.
URL:https://is-gw.ca/event/getting-ready-for-fall-activities/
LOCATION:Zoom
CATEGORIES:SWIS Information Sessions
ORGANIZER;CN="Marcela Altamira":MAILTO:maltamira@is-gw.ca
END:VEVENT
BEGIN:VEVENT
DTSTART;TZID=America/Toronto:20230720T100000
DTEND;TZID=America/Toronto:20230720T110000
DTSTAMP:20260422T060326
CREATED:20230712T175126Z
LAST-MODIFIED:20230712T175127Z
UID:10002101-1689847200-1689850800@is-gw.ca
SUMMARY:Summer Activity Ideas for Families
DESCRIPTION:During this in-person session\, we will provide you with ideas and resources to keep your kids entertained during the summer. \nAlso at this session: \n\nliteracy kits for children in grades 1-4 from United for Literacy\nregister for the Community Backpack Project (offers free\, fully-stocked backpacks for children in K – Grade 12)\n\nView PDF flyer. \nActivities for children and light refreshments will be provided. \nPlease register in advance by clicking here: https://forms.gle/8L73Uc2ZcKyFEBCt5 \nFor more information contact Marcela at 226-821-0524 or maltamira@is-gw.ca
URL:https://is-gw.ca/event/summer-activity-ideas-for-families/
LOCATION:ISGW Office\, 104 Dawson Road\, Unit 102\, Guelph\, Ontario\, N1H 1A6\, Canada
CATEGORIES:SWIS Information Sessions
ORGANIZER;CN="Marcela Altamira":MAILTO:maltamira@is-gw.ca
END:VEVENT
END:VCALENDAR