BEGIN:VCALENDAR
VERSION:2.0
PRODID:-//ISGW - ECPv6.13.0//NONSGML v1.0//EN
CALSCALE:GREGORIAN
METHOD:PUBLISH
X-WR-CALNAME:ISGW
X-ORIGINAL-URL:https://is-gw.ca
X-WR-CALDESC:Events for ISGW
REFRESH-INTERVAL;VALUE=DURATION:PT1H
X-Robots-Tag:noindex
X-PUBLISHED-TTL:PT1H
BEGIN:VTIMEZONE
TZID:America/Toronto
BEGIN:DAYLIGHT
TZOFFSETFROM:-0500
TZOFFSETTO:-0400
TZNAME:EDT
DTSTART:20220313T070000
END:DAYLIGHT
BEGIN:STANDARD
TZOFFSETFROM:-0400
TZOFFSETTO:-0500
TZNAME:EST
DTSTART:20221106T060000
END:STANDARD
BEGIN:DAYLIGHT
TZOFFSETFROM:-0500
TZOFFSETTO:-0400
TZNAME:EDT
DTSTART:20230312T070000
END:DAYLIGHT
BEGIN:STANDARD
TZOFFSETFROM:-0400
TZOFFSETTO:-0500
TZNAME:EST
DTSTART:20231105T060000
END:STANDARD
BEGIN:DAYLIGHT
TZOFFSETFROM:-0500
TZOFFSETTO:-0400
TZNAME:EDT
DTSTART:20240310T070000
END:DAYLIGHT
BEGIN:STANDARD
TZOFFSETFROM:-0400
TZOFFSETTO:-0500
TZNAME:EST
DTSTART:20241103T060000
END:STANDARD
BEGIN:DAYLIGHT
TZOFFSETFROM:-0500
TZOFFSETTO:-0400
TZNAME:EDT
DTSTART:20250309T070000
END:DAYLIGHT
BEGIN:STANDARD
TZOFFSETFROM:-0400
TZOFFSETTO:-0500
TZNAME:EST
DTSTART:20251102T060000
END:STANDARD
BEGIN:DAYLIGHT
TZOFFSETFROM:-0500
TZOFFSETTO:-0400
TZNAME:EDT
DTSTART:20260308T070000
END:DAYLIGHT
BEGIN:STANDARD
TZOFFSETFROM:-0400
TZOFFSETTO:-0500
TZNAME:EST
DTSTART:20261101T060000
END:STANDARD
END:VTIMEZONE
BEGIN:VEVENT
DTSTART;TZID=America/Toronto:20260312T153000
DTEND;TZID=America/Toronto:20260312T170000
DTSTAMP:20260421T214922
CREATED:20260219T221019Z
LAST-MODIFIED:20260226T145356Z
UID:10004761-1773329400-1773334800@is-gw.ca
SUMMARY:Income Tax for Newcomers
DESCRIPTION:Join us online  using Zoom to learn about filing income tax in Canada with Sheena Barnett\, Volunteer and Benefits Outreach Program\, Canada Revenue Agency/Government of Canada. \nTopics to be covered include: \n\nCanada’s tax system\nCanada Child Benefit\, Child disability benefit\nCanada Groceries and Essentials Benefit (formerly the GST/HST credit)\nDisability tax credit\nCanada workers benefit\nCRA Tool and Resources\nCommunity Volunteer Income Tax Program\n\nView PDF flyer. \n\n Language interpretation is available\, based on need. Please register by Monday\, March 9. \n Need help with Zoom? Let us know\, we can help! \n For more information\, contact Maryam at 519-836-2222\, ext. 233 or mkhademi@is-gw.ca \n\nThank you for your interest in this session. Registration is now closed.
URL:https://is-gw.ca/event/income-tax-for-newcomers-4/
LOCATION:Zoom
CATEGORIES:Information Sessions
ATTACH;FMTTYPE=image/jpeg:https://is-gw.ca/wp-content/uploads/2025/03/OnlineWorkshop-featuregraphic.jpg
ORGANIZER;CN="Maryam Khademi":MAILTO:mkhademi@is-gw.ca
END:VEVENT
BEGIN:VEVENT
DTSTART;TZID=America/Toronto:20260210T160000
DTEND;TZID=America/Toronto:20260210T173000
DTSTAMP:20260421T214922
CREATED:20260127T222815Z
LAST-MODIFIED:20260127T223130Z
UID:10004749-1770739200-1770744600@is-gw.ca
SUMMARY:Applying Online for Canadian Citizenship
DESCRIPTION:Did you know that most applicants can now apply online to become Canadian citizens?\nJoin us online  using Zoom to learn and ask questions about the process of applying online for Canadian citizenship. \nAt this session we will talk about: \n\nWhy you should apply online\nWho can apply online\nCreating an account\nHow to complete the application form\n\nView PDF flyer. \n\n Need help with Zoom? Let us know\, we can help! \n For more information or to register\, contact Maryam at 519-836-2222\, ext. 233 or mkhademi@is-gw.ca  \n\nThank you for your interest in this session. Registration is now closed.
URL:https://is-gw.ca/event/applying-online-for-canadian-citizenship/
LOCATION:Zoom
CATEGORIES:Information Sessions
ATTACH;FMTTYPE=image/jpeg:https://is-gw.ca/wp-content/uploads/2025/03/OnlineWorkshop-featuregraphic.jpg
ORGANIZER;CN="Maryam Khademi":MAILTO:mkhademi@is-gw.ca
END:VEVENT
BEGIN:VEVENT
DTSTART;TZID=America/Toronto:20250930T163000
DTEND;TZID=America/Toronto:20250930T180000
DTSTAMP:20260421T214922
CREATED:20250827T183508Z
LAST-MODIFIED:20250828T183058Z
UID:10004566-1759249800-1759255200@is-gw.ca
SUMMARY:Applying for Canadian Citizenship
DESCRIPTION:Join us online  using Zoom to learn about applying for Canadian citizenship. \nAt this session\, we will talk about: \n\nThe steps to apply\nEligibility criteria\nRequired documents\nThe citizenship test and ceremony\n\nView PDF flyer. \n\n Need help with Zoom? Let us know\, we can help! \n For more information\, contact Maryam at 519-836-2222\, ext. 233 or mkhademi@is-gw.ca \n\nThank you for your interest in this session. Registration is now closed.
URL:https://is-gw.ca/event/applying-for-canadian-citizenship-8/
LOCATION:Zoom
CATEGORIES:Information Sessions
ATTACH;FMTTYPE=image/jpeg:https://is-gw.ca/wp-content/uploads/2025/03/OnlineWorkshop-featuregraphic.jpg
ORGANIZER;CN="Maryam Khademi":MAILTO:mkhademi@is-gw.ca
END:VEVENT
BEGIN:VEVENT
DTSTART;TZID=America/Toronto:20250225T160000
DTEND;TZID=America/Toronto:20250225T173000
DTSTAMP:20260421T214922
CREATED:20250113T202430Z
LAST-MODIFIED:20250113T202728Z
UID:10004113-1740499200-1740504600@is-gw.ca
SUMMARY:Income Tax for Newcomers
DESCRIPTION:Join us online  using Zoom to learn about filing income tax in Canada with guest speaker Cindy Marlor\, Canada Revenue Agency / Government of Canada. \nTopics to be covered include: \n\nCanada’s tax system\nCanada Child Benefit\, Child disability benefit\nGST/HST credit\nDisability tax credit\nCanada Carbon Rebate (CCR) (formerly known as Climate action incentive payment)\nCanada workers benefit\nCRA Tool and Resources\nCommunity Volunteer Income Tax Program\n\nView PDF flyer. \nLanguage interpretation is available\, based on need. Please register by Thursday\, February 20.\nNeed help with Zoom? Let us know\, we can help! \nFor more information\, contact Maryam at 519-836-2222\, ext. 233 or mkhademi@is-gw.ca \n  \nThank you for your interest in this session. Registration is now closed.
URL:https://is-gw.ca/event/income-tax-for-newcomers-3/
LOCATION:Zoom
CATEGORIES:Information Sessions
ORGANIZER;CN="Maryam Khademi":MAILTO:mkhademi@is-gw.ca
END:VEVENT
BEGIN:VEVENT
DTSTART;TZID=America/Toronto:20250211T160000
DTEND;TZID=America/Toronto:20250211T173000
DTSTAMP:20260421T214922
CREATED:20250113T201033Z
LAST-MODIFIED:20250113T201420Z
UID:10004112-1739289600-1739295000@is-gw.ca
SUMMARY:Applying for Canadian Citizenship
DESCRIPTION:Join us online  using Zoom to learn about applying for Canadian citizenship. \nAt this session\, we will talk about: \n\nThe steps to apply\nEligibility criteria\nRequired documents\nThe citizenship test and ceremony\n\nView PDF flyer. \nNeed help with Zoom? Let us know\, we can help! \nFor more information\, contact Maryam at 519-836-2222\, ext. 233 or mkhademi@is-gw.ca \n  \nThank you for your interest in this session. Registration is now closed.
URL:https://is-gw.ca/event/applying-for-canadian-citizenship-5/
LOCATION:Zoom
CATEGORIES:Information Sessions
ORGANIZER;CN="Maryam Khademi":MAILTO:mkhademi@is-gw.ca
END:VEVENT
BEGIN:VEVENT
DTSTART;TZID=America/Toronto:20240924T160000
DTEND;TZID=America/Toronto:20240924T173000
DTSTAMP:20260421T214922
CREATED:20240827T194430Z
LAST-MODIFIED:20240827T194756Z
UID:10003755-1727193600-1727199000@is-gw.ca
SUMMARY:Applying for Canadian Citizenship
DESCRIPTION:Join us online\, using Zoom to learn about applying for Canadian citizenship. \nWe will talk about: \n\nThe steps to apply\nEligibility criteria\nRequired documents\nThe citizenship test and ceremony\n\nView PDF flyer. \nDo you want to attend but don’t have a device? Need help with Zoom? Let us know\, we can help! \nFor more information\, contact Maryam at 519-836-2222\, ext. 233 or mkhademi@is-gw.ca \n  \nThank you for your interest in this session. Registration is now closed.
URL:https://is-gw.ca/event/applying-for-canadian-citizenship-3/
LOCATION:Zoom
CATEGORIES:Information Sessions
ORGANIZER;CN="Maryam Khademi":MAILTO:mkhademi@is-gw.ca
END:VEVENT
BEGIN:VEVENT
DTSTART;TZID=America/Toronto:20240228T160000
DTEND;TZID=America/Toronto:20240228T173000
DTSTAMP:20260421T214922
CREATED:20240207T184900Z
LAST-MODIFIED:20240207T185225Z
UID:10002574-1709136000-1709141400@is-gw.ca
SUMMARY:Income Tax for Newcomers
DESCRIPTION:Join us online\, using Zoom\, to learn about filing income tax in Canada with guest speaker Cindy Marlor\, Canada Revenue Agency / Government of Canada. \nTopics to be covered include: \n\nCanada’s tax system\nCanada Child Benefit\, Child disability benefit\nGST/HST credit\nDisability tax credit\nClimate Action Incentive Payments\nCanada workers benefit\nCRA Tool and Resources\nCommunity Volunteer Income Tax Program\n\nView PDF flyer. \nLanguage interpretation is available\, based on need. Please register by Friday\, February 23 and be sure to fill the interpretation section of the registration form. \nDo you want to attend but don’t have a device? Need help with Zoom? Let us know\, we can help! \nFor more information\, contact Maryam at 519-836-2222\, ext. 233 or mkhademi@is-gw.ca \nThank you for your interest in this session. Registration is now closed.
URL:https://is-gw.ca/event/income-tax-for-newcomers-2/
LOCATION:Zoom
CATEGORIES:Information Sessions
ORGANIZER;CN="Maryam Khademi":MAILTO:mkhademi@is-gw.ca
END:VEVENT
BEGIN:VEVENT
DTSTART;TZID=America/Toronto:20230221T163000
DTEND;TZID=America/Toronto:20230221T180000
DTSTAMP:20260421T214922
CREATED:20230201T193535Z
LAST-MODIFIED:20230201T193811Z
UID:10001713-1676997000-1677002400@is-gw.ca
SUMMARY:Income Tax for Newcomers
DESCRIPTION:Join us online using Zoom to learn about filing income tax in Canada with Munishi Desai\, CVITP and Benefits Outreach Officer\, Canada Revenue Agency / Government of Canada. \nTopics to be covered include: \n\nCanada’s tax system\nCanada Child Benefit\, Child disability benefit\nGST/HST credit\nDisability tax credit\nClimate Action Incentive payments\nCanada workers benefit\nCRA tools and resources\nCommunity Volunteer Income Tax Program\n\nView PDF flyer. \nLanguage interpretation is available\, based on need. Please register by Thursday\, February 16. \nDo you want to attend but don’t have a device? Need help with Zoom? Let us know\, we can help! \nFor more information\, contact Maryam at 519-836-2222\, ext. 233 or mkhademi@is-gw.ca \n  \nThank you for your interest in this session. Registration is now closed.
URL:https://is-gw.ca/event/income-tax-for-newcomers/
LOCATION:Zoom
CATEGORIES:Information Sessions
ORGANIZER;CN="Maryam Khademi":MAILTO:mkhademi@is-gw.ca
END:VEVENT
BEGIN:VEVENT
DTSTART;TZID=America/Toronto:20221206T163000
DTEND;TZID=America/Toronto:20221206T180000
DTSTAMP:20260421T214922
CREATED:20221124T194037Z
LAST-MODIFIED:20221124T200107Z
UID:10001513-1670344200-1670349600@is-gw.ca
SUMMARY:Applying for Canadian Citizenship
DESCRIPTION:Join us to learn and ask questions about applying for Canadian citizenship. Discussion topics will include: \n\nSteps to apply\nEligibility criteria\nRequired documents\nCitizenship test and ceremony\n\nView PDF flyer. \nLanguage interpretation is available\, based on need. Please register by Thursday\, December 1.\nDo you want to attend but don’t have a device? Need help with Zoom? Let us know\, we can help! \nFor more information\, contact Maryam at 519-836-2222\, ext. 233 or mkhademi@is-gw.ca \nThank you for your interest in this session. Registration is now closed.
URL:https://is-gw.ca/event/applying-for-canadian-citizenship/
LOCATION:Zoom
CATEGORIES:Information Sessions
ORGANIZER;CN="Maryam Khademi":MAILTO:mkhademi@is-gw.ca
END:VEVENT
END:VCALENDAR