BEGIN:VCALENDAR
VERSION:2.0
PRODID:-//ISGW - ECPv6.13.0//NONSGML v1.0//EN
CALSCALE:GREGORIAN
METHOD:PUBLISH
X-ORIGINAL-URL:https://is-gw.ca
X-WR-CALDESC:Events for ISGW
REFRESH-INTERVAL;VALUE=DURATION:PT1H
X-Robots-Tag:noindex
X-PUBLISHED-TTL:PT1H
BEGIN:VTIMEZONE
TZID:America/Toronto
BEGIN:DAYLIGHT
TZOFFSETFROM:-0500
TZOFFSETTO:-0400
TZNAME:EDT
DTSTART:20240310T070000
END:DAYLIGHT
BEGIN:STANDARD
TZOFFSETFROM:-0400
TZOFFSETTO:-0500
TZNAME:EST
DTSTART:20241103T060000
END:STANDARD
BEGIN:DAYLIGHT
TZOFFSETFROM:-0500
TZOFFSETTO:-0400
TZNAME:EDT
DTSTART:20250309T070000
END:DAYLIGHT
BEGIN:STANDARD
TZOFFSETFROM:-0400
TZOFFSETTO:-0500
TZNAME:EST
DTSTART:20251102T060000
END:STANDARD
END:VTIMEZONE
BEGIN:VEVENT
DTSTART;TZID=America/Toronto:20250116T163000
DTEND;TZID=America/Toronto:20250116T173000
DTSTAMP:20260422T001819
CREATED:20250109T194618Z
LAST-MODIFIED:20250109T201813Z
UID:10004110-1737045000-1737048600@is-gw.ca
SUMMARY:Youth Chat: Guelph Public Library Services and the Benefits of a Library Card
DESCRIPTION:Join us in person at ISGW for this session with guest speaker Emily Tyschenko from Guelph Public Library to learn about: \n\nHow to register for library cards\nActivities available at the library\nOnline resources available for students\nLibrary services and programs\n\nView PDF flyer. \nLanguage interpretation is available\, based on need. Please register early and be sure to complete the interpretation section of the registration form. \nFor more information contact Samhal 226-332-0790 or szewolde@is-gw.ca \n  \nThank you for your interest. Registration is now closed.
URL:https://is-gw.ca/event/youth-chat-guelph-public-library-services-and-the-benefits-of-a-library-card/
LOCATION:ISGW Office\, 104 Dawson Road\, Unit 102\, Guelph\, Ontario\, N1H 1A6\, Canada
CATEGORIES:SWIS Information Sessions,Youth
ATTACH;FMTTYPE=image/jpeg:https://is-gw.ca/wp-content/uploads/2024/04/YouthChat-featuregraphic.jpg
ORGANIZER;CN="Samhal Zewolde":MAILTO:szewolde@is-gw.ca
END:VEVENT
BEGIN:VEVENT
DTSTART;TZID=America/Toronto:20241121T163000
DTEND;TZID=America/Toronto:20241121T173000
DTSTAMP:20260422T001819
CREATED:20241107T195837Z
LAST-MODIFIED:20241107T202913Z
UID:10003916-1732206600-1732210200@is-gw.ca
SUMMARY:Youth Chat: Learning to be Financially Independent
DESCRIPTION:Join us\, in person at ISGW\, for an information session about learning to be financially independent. \nAt this session\, we will talk about: \n\nBudgeting and saving money\nCredit cards\nBuilding credit\n\nView PDF flyer. \nLanguage interpretation is available\, based on need. Please register early and be sure to complete the interpretation\nsection of the registration form. \nFor more information contact Samhal 226-332-0790\, szewolde@is-gw.ca \n  \nThank you for your interest in this session. Registration is now closed.
URL:https://is-gw.ca/event/youth-chat-learning-to-be-financially-independent/
LOCATION:ISGW Office\, 104 Dawson Road\, Unit 102\, Guelph\, Ontario\, N1H 1A6\, Canada
CATEGORIES:Youth
ATTACH;FMTTYPE=image/jpeg:https://is-gw.ca/wp-content/uploads/2024/04/YouthChat-featuregraphic.jpg
ORGANIZER;CN="Samhal Zewolde":MAILTO:szewolde@is-gw.ca
END:VEVENT
BEGIN:VEVENT
DTSTART;TZID=America/Toronto:20241003T163000
DTEND;TZID=America/Toronto:20241003T173000
DTSTAMP:20260422T001819
CREATED:20240903T184545Z
LAST-MODIFIED:20240904T180837Z
UID:10003760-1727973000-1727976600@is-gw.ca
SUMMARY:Youth Chat: Getting Your Driver's Licence
DESCRIPTION:Join us in person at ISGW to talk about: \n\nWhen you are eligible to get a licence\nHow much it costs\nFree\, online preparation resources\nGovernment-approved driving schools\nInsurance costs\nWhere to go to book your road test\, languages available\n\nView PDF flyer. \nLanguage interpretation is available\, based on need. Please register as soon as possible and be sure to complete the interpretation section of the registration form. \nFor more information contact Samhal 226-332-0790\, szewolde@is-gw.ca \n  \nThank you for your interest in this session. Registration is now closed.
URL:https://is-gw.ca/event/youth-chat-getting-your-drivers-licence-3/
LOCATION:ISGW Office\, 104 Dawson Road\, Unit 102\, Guelph\, Ontario\, N1H 1A6\, Canada
CATEGORIES:SWIS Information Sessions,Youth
ATTACH;FMTTYPE=image/jpeg:https://is-gw.ca/wp-content/uploads/2024/04/YouthChat-featuregraphic.jpg
ORGANIZER;CN="Samhal Zewolde":MAILTO:szewolde@is-gw.ca
END:VEVENT
BEGIN:VEVENT
DTSTART;TZID=America/Toronto:20240606T163000
DTEND;TZID=America/Toronto:20240606T173000
DTSTAMP:20260422T001820
CREATED:20240603T175355Z
LAST-MODIFIED:20240603T175355Z
UID:10003096-1717691400-1717695000@is-gw.ca
SUMMARY:Youth Chat: Mental Health\, Wellness and Self Care
DESCRIPTION:Join us in person at ISGW to talk about: \n\nHealth and wellness\nImmigration and mental health\nOverall wellness\nSelf care and support options\n\nView PDF flyer. \nPlease register here: https://forms.gle/XzCZW4Bbppk64xJH6 \nLanguage interpretation is available\, based on need. Let us know\, we can help! \nFor more information contact:\nAlisiia 226-332-0784\, adovban@is-gw.ca\nSamhal 226-332-0790\, szewolde@is-gw.ca
URL:https://is-gw.ca/event/youth-chat-mental-health-wellness-and-self-care/
LOCATION:ISGW Office\, 104 Dawson Road\, Unit 102\, Guelph\, Ontario\, N1H 1A6\, Canada
CATEGORIES:Youth
ATTACH;FMTTYPE=image/jpeg:https://is-gw.ca/wp-content/uploads/2024/04/YouthChat-featuregraphic.jpg
ORGANIZER;CN="Alisiia Dovban":MAILTO:adovban@is-gw.ca
END:VEVENT
BEGIN:VEVENT
DTSTART;TZID=America/Toronto:20240509T163000
DTEND;TZID=America/Toronto:20240509T173000
DTSTAMP:20260422T001820
CREATED:20240423T190847Z
LAST-MODIFIED:20240423T191235Z
UID:10003017-1715272200-1715275800@is-gw.ca
SUMMARY:Youth Chat: YMCA Summer Work Student Exchange Program
DESCRIPTION:Join us in person at ISGW to learn about the YMCA Summer Work Student Exchange (SWSE) Program. \nGuest speaker: Nick Firth\, local SWSE program coordinator \nThe program offers youth (who will be 16 or 17 this summer): \n\nThe opportunity to live and work in a French-speaking community in Québec for 6 weeks\nPaid\, full-time summer employment in the non-profit sector (camps\, child care\, museums\, etc.)\nA reciprocal homestay – youth are hosted in each other’s homes to deepen the cultural exchange\nThe support of local YMCA staff such as Nick\, who also coordinate weekly group activities\nNew relationships and friendships that continue beyond the duration of the program\n\nView PDF flyer. \nLanguage interpretation is available\, based on need. Please register as soon as possible and be sure to complete the interpretation section of the registration form. \nFor more information contact Samhal 226-332-0790\, szewolde@is-gw.ca \n  \nThank you for your interest in this session. Registration is now closed.
URL:https://is-gw.ca/event/youth-chat-ymca-summer-work-student-exchange-program/
LOCATION:ISGW Office\, 104 Dawson Road\, Unit 102\, Guelph\, Ontario\, N1H 1A6\, Canada
CATEGORIES:SWIS Information Sessions,Youth
ATTACH;FMTTYPE=image/jpeg:https://is-gw.ca/wp-content/uploads/2024/04/YouthChat-featuregraphic.jpg
ORGANIZER;CN="Samhal Zewolde":MAILTO:szewolde@is-gw.ca
END:VEVENT
END:VCALENDAR