BEGIN:VCALENDAR
VERSION:2.0
PRODID:-//ISGW - ECPv6.13.0//NONSGML v1.0//EN
CALSCALE:GREGORIAN
METHOD:PUBLISH
X-WR-CALNAME:ISGW
X-ORIGINAL-URL:https://is-gw.ca
X-WR-CALDESC:Events for ISGW
REFRESH-INTERVAL;VALUE=DURATION:PT1H
X-Robots-Tag:noindex
X-PUBLISHED-TTL:PT1H
BEGIN:VTIMEZONE
TZID:UTC
BEGIN:STANDARD
TZOFFSETFROM:+0000
TZOFFSETTO:+0000
TZNAME:UTC
DTSTART:20210101T000000
END:STANDARD
END:VTIMEZONE
BEGIN:VEVENT
DTSTART;TZID=UTC:20220126T160000
DTEND;TZID=UTC:20220126T170000
DTSTAMP:20260422T203403
CREATED:20211211T020021Z
LAST-MODIFIED:20211213T205332Z
UID:10001211-1643212800-1643216400@is-gw.ca
SUMMARY:Youth Chat: Managing Your Money
DESCRIPTION:Join us on Zoom to learn and ask questions about managing your money. \nTopics to be discussed include: \n\nsetting up your own bank account\nbudgeting\nimportant banking terms\n\nView PDF flyer. \nTo register\, please fill the form below. \nFor more information contact:\nSTELLA LIM cell: 226-821-4454\, email: slim@is-gw.ca\nSARAH SEYED cell: 226-332-0785\, email: sseyed@is-gw.ca
URL:https://is-gw.ca/event/youth-chat-managing-your-money/
LOCATION:Zoom
CATEGORIES:SWIS Information Sessions,Youth
END:VEVENT
BEGIN:VEVENT
DTSTART;TZID=UTC:20220119T160000
DTEND;TZID=UTC:20220119T170000
DTSTAMP:20260422T203403
CREATED:20211211T022637Z
LAST-MODIFIED:20211213T205255Z
UID:10001212-1642608000-1642611600@is-gw.ca
SUMMARY:Youth Chat: Post Secondary/Continuing Education
DESCRIPTION:Join us on Zoom to learn and ask questions about post secondary education and continuing education. \nTopics to be discussed include: \n\nhow to apply\, understanding the process\nfinancial assistance – OSAP\nadult school – ESL\nadult school – getting your high school diploma\n\nView PDF flyer. \nTo register\, please fill the form below. \nFor more information contact:\nSTELLA LIM cell: 226-821-4454\, email: slim@is-gw.ca\nSARAH SEYED cell: 226-332-0785\, email: sseyed@is-gw.ca
URL:https://is-gw.ca/event/youth-chat-post-secondary-continuing-education/
LOCATION:Zoom
CATEGORIES:SWIS Information Sessions,Youth
END:VEVENT
BEGIN:VEVENT
DTSTART;TZID=UTC:20220112T160000
DTEND;TZID=UTC:20220112T170000
DTSTAMP:20260422T203403
CREATED:20211211T015356Z
LAST-MODIFIED:20211213T205227Z
UID:10001210-1642003200-1642006800@is-gw.ca
SUMMARY:Youth Chat: Applying for Citizenship
DESCRIPTION:Join us on Zoom to learn about applying for Canadian citizenship. \nTopics to be discussed include: \n\neligibility\, required documents\napplying with a parent or on your own\nresources\n\nView PDF flyer. \nTo register\, please fill the form below. \nFor more information contact:\nSTELLA LIM cell: 226-821-4454\, email: slim@is-gw.ca\nSARAH SEYED cell: 226-332-0785\, email: sseyed@is-gw.ca \nThank you for your interest in this session. Registration is now closed.
URL:https://is-gw.ca/event/youth-chat-applying-for-citizenship/
LOCATION:Zoom
CATEGORIES:SWIS Information Sessions,Youth
END:VEVENT
BEGIN:VEVENT
DTSTART;TZID=UTC:20211208T160000
DTEND;TZID=UTC:20211208T170000
DTSTAMP:20260422T203403
CREATED:20211117T195450Z
LAST-MODIFIED:20211117T195620Z
UID:10001199-1638979200-1638982800@is-gw.ca
SUMMARY:Youth Chat: Community Involvement
DESCRIPTION:Join us on Zoom to learn and ask questions about community involvement in Guelph. \nTopics to be discussed include: \n\nImportance of volunteering\nImproving your leadership skills\nGaining work experience\nCommunity involvement around Guelph\n\nView PDF flyer. \nTo register\, please fill the form below. \nFor more information contact:\nSTELLA LIM cell: 226-821-4454\, email: slim@is-gw.ca\nSARAH SEYED cell: 226-332-0785\, email: sseyed@is-gw.ca
URL:https://is-gw.ca/event/youth-chat-community-involvement/
LOCATION:Zoom
CATEGORIES:SWIS Information Sessions,Youth
END:VEVENT
BEGIN:VEVENT
DTSTART;TZID=UTC:20211201T160000
DTEND;TZID=UTC:20211201T170000
DTSTAMP:20260422T203403
CREATED:20211117T193848Z
LAST-MODIFIED:20211117T194843Z
UID:10001198-1638374400-1638378000@is-gw.ca
SUMMARY:Youth Chat: Winter Wellness
DESCRIPTION:Join us on Zoom to learn how to stay healthy emotionally and physically during the winter months. \nTopics to be discussed include: \n\nWinter activities and programs in the community (free or low-cost)\nWinter DIY – paper snowflakes  * Please bring scissors and plain paper\n\nView PDF flyer. \nTo register\, please fill the form below. \nFor more information contact:\nSTELLA LIM cell: 226-821-4454\, email: slim@is-gw.ca\nSARAH SEYED cell: 226-332-0785\, email: sseyed@is-gw.ca
URL:https://is-gw.ca/event/youth-chat-winter-wellness/
LOCATION:Zoom
CATEGORIES:SWIS Information Sessions,Youth
ORGANIZER;CN="Stella Lim":MAILTO:slim@is-gw.ca
END:VEVENT
END:VCALENDAR