BEGIN:VCALENDAR
VERSION:2.0
PRODID:-//ISGW - ECPv6.13.0//NONSGML v1.0//EN
CALSCALE:GREGORIAN
METHOD:PUBLISH
X-WR-CALNAME:ISGW
X-ORIGINAL-URL:https://is-gw.ca
X-WR-CALDESC:Events for ISGW
REFRESH-INTERVAL;VALUE=DURATION:PT1H
X-Robots-Tag:noindex
X-PUBLISHED-TTL:PT1H
BEGIN:VTIMEZONE
TZID:America/Toronto
BEGIN:DAYLIGHT
TZOFFSETFROM:-0500
TZOFFSETTO:-0400
TZNAME:EDT
DTSTART:20220313T070000
END:DAYLIGHT
BEGIN:STANDARD
TZOFFSETFROM:-0400
TZOFFSETTO:-0500
TZNAME:EST
DTSTART:20221106T060000
END:STANDARD
END:VTIMEZONE
BEGIN:VEVENT
DTSTART;TZID=America/Toronto:20221026T151500
DTEND;TZID=America/Toronto:20221026T160000
DTSTAMP:20260422T193216
CREATED:20221007T155345Z
LAST-MODIFIED:20221017T143823Z
UID:10001494-1666797300-1666800000@is-gw.ca
SUMMARY:Connecting to Your School - Mitchell Woods
DESCRIPTION:Are you new to Canada? \nDo you want to learn how to navigate your child’s school website and more? \nJoin our SWIS team\, in-person\, at Mitchell Woods Public School\, to learn about: \n\nNavigating the school and board websites\nAccessing the school calendar\, school newsletter\nSchoolCash Online payment system\nSchool bus and inclement weather communication\nSchool fundraising events\, school trips\nPreparing your child for school (clothing\, packed lunch\, etc.)\nCommunicating with your child’s teacher\, reporting absence\nStudents arriving on time for school\nNo parking in the school parking lot\n\nView PDF flyer. \nLanguage interpretation is available\, based on need. Please register early and be sure to complete the\ninterpretation section of the registration form. \nFor more information or to register\, contact Binaya at 226-821-0524 or bnyaupane@is-gw.ca \nThank you for your interest in this session. Registration is now closed.
URL:https://is-gw.ca/event/connecting-to-your-school-mitchell-woods/
LOCATION:Mitchell Woods Public School 670 Willow Rd\, Guelph\, ON N1H 8K2\, 670 Willow Rd\, Guelph\, Ontario\, N1H 8K2\, Canada
CATEGORIES:SWIS Information Sessions
ORGANIZER;CN="Binaya Nyaupane":MAILTO:bnyaupane@is-gw.ca
END:VEVENT
END:VCALENDAR