BEGIN:VCALENDAR
VERSION:2.0
PRODID:-//ISGW - ECPv6.13.0//NONSGML v1.0//EN
CALSCALE:GREGORIAN
METHOD:PUBLISH
X-ORIGINAL-URL:https://is-gw.ca
X-WR-CALDESC:Events for ISGW
REFRESH-INTERVAL;VALUE=DURATION:PT1H
X-Robots-Tag:noindex
X-PUBLISHED-TTL:PT1H
BEGIN:VTIMEZONE
TZID:America/Toronto
BEGIN:DAYLIGHT
TZOFFSETFROM:-0500
TZOFFSETTO:-0400
TZNAME:EDT
DTSTART:20250309T070000
END:DAYLIGHT
BEGIN:STANDARD
TZOFFSETFROM:-0400
TZOFFSETTO:-0500
TZNAME:EST
DTSTART:20251102T060000
END:STANDARD
END:VTIMEZONE
BEGIN:VEVENT
DTSTART;TZID=America/Toronto:20250709T100000
DTEND;TZID=America/Toronto:20250709T120000
DTSTAMP:20260422T100913
CREATED:20250620T173841Z
LAST-MODIFIED:20250626T144013Z
UID:10004351-1752055200-1752062400@is-gw.ca
SUMMARY:Energy Coach Workshop at Palmerston Public Library
DESCRIPTION:Join us in person  at the Palmerston Library to learn about local\, provincial\, and federal energy support programs. \n Understand eligibility and how to apply.\n Get help accessing rebates\, grants\, and subsidies.\n Find no-cost and low-cost energy solutions.\n Live Q&A with the Energy Coach of County of Wellington. \nGuest speakers include: Independent Electricity System Operator\, Enbridge\, The Home Inspectors Group Inc. and The County of Wellington \nView PDF flyer \nLight refreshments and kids activities provided. \n\n Language interpretation is available\, based on need. Please register as soon as possible. \n For more information\, contact Binaya at 226-332-0783 or bnyaupane@is-gw.ca \n\nThank you for your interest in this session. Registration is now closed.
URL:https://is-gw.ca/event/energy-coach-workshop-at-palmerston-public-library/
LOCATION:Palmerston Library\, 265 Bell Street\, Palmerston\, Ontario\, N0G 2P0\, Canada
CATEGORIES:Information Sessions
ORGANIZER;CN="Binaya Nyaupane":MAILTO:bnyaupane@is-gw.ca
END:VEVENT
END:VCALENDAR