BEGIN:VCALENDAR
VERSION:2.0
PRODID:-//ISGW - ECPv6.13.0//NONSGML v1.0//EN
CALSCALE:GREGORIAN
METHOD:PUBLISH
X-WR-CALNAME:ISGW
X-ORIGINAL-URL:https://is-gw.ca
X-WR-CALDESC:Events for ISGW
REFRESH-INTERVAL;VALUE=DURATION:PT1H
X-Robots-Tag:noindex
X-PUBLISHED-TTL:PT1H
BEGIN:VTIMEZONE
TZID:America/Toronto
BEGIN:DAYLIGHT
TZOFFSETFROM:-0500
TZOFFSETTO:-0400
TZNAME:EDT
DTSTART:20240310T070000
END:DAYLIGHT
BEGIN:STANDARD
TZOFFSETFROM:-0400
TZOFFSETTO:-0500
TZNAME:EST
DTSTART:20241103T060000
END:STANDARD
END:VTIMEZONE
BEGIN:VEVENT
DTSTART;TZID=America/Toronto:20240814T123000
DTEND;TZID=America/Toronto:20240814T143000
DTSTAMP:20260422T075805
CREATED:20240729T155510Z
LAST-MODIFIED:20240729T191551Z
UID:10003732-1723638600-1723645800@is-gw.ca
SUMMARY:Autism Open House - at Shelldale
DESCRIPTION:Join us in person at the Shelldale Centre\, 20 Shelldale Crescent\, Guelph\, ON N1H 1C8 for an open discussion on all things autism with a panel of community agencies. \nAt this session\, families will have the opportunity to: \n\nask questions\nmeet community agencies and learn about their services and supports\naddress any concerns\n\nThe following agencies will be present: \n\nAccess Information and Referral Developmental Services\nCanadian Mental Health Association (Family Support Options and Special Services At Home – SSAH)\nCompass Community Services\nImmigrant Services Guelph-Wellington\nKerry’s Place\nKidsAbility\n\nView PDF flyer. \nLanguage interpretation is available\, based on need. Please register as soon as possible and be sure to complete the interpretation section of the registration form. \nFor more information contact Lindsay at lriddell@is-gw.ca or 519-831-1198 \n  \n 
URL:https://is-gw.ca/event/autism-open-house-at-shelldale/
LOCATION:Shelldale Centre\, 20 Shelldale Crescent\, Guelph\, Ontario\, N1H 1C8\, Canada
ORGANIZER;CN="Lindsay Riddell":MAILTO:lriddell@is-gw.ca
END:VEVENT
END:VCALENDAR