BEGIN:VCALENDAR
VERSION:2.0
PRODID:-//ISGW - ECPv6.13.0//NONSGML v1.0//EN
CALSCALE:GREGORIAN
METHOD:PUBLISH
X-WR-CALNAME:ISGW
X-ORIGINAL-URL:https://is-gw.ca
X-WR-CALDESC:Events for ISGW
REFRESH-INTERVAL;VALUE=DURATION:PT1H
X-Robots-Tag:noindex
X-PUBLISHED-TTL:PT1H
BEGIN:VTIMEZONE
TZID:America/Toronto
BEGIN:DAYLIGHT
TZOFFSETFROM:-0500
TZOFFSETTO:-0400
TZNAME:EDT
DTSTART:20220313T070000
END:DAYLIGHT
BEGIN:STANDARD
TZOFFSETFROM:-0400
TZOFFSETTO:-0500
TZNAME:EST
DTSTART:20221106T060000
END:STANDARD
BEGIN:DAYLIGHT
TZOFFSETFROM:-0500
TZOFFSETTO:-0400
TZNAME:EDT
DTSTART:20230312T070000
END:DAYLIGHT
BEGIN:STANDARD
TZOFFSETFROM:-0400
TZOFFSETTO:-0500
TZNAME:EST
DTSTART:20231105T060000
END:STANDARD
BEGIN:DAYLIGHT
TZOFFSETFROM:-0500
TZOFFSETTO:-0400
TZNAME:EDT
DTSTART:20240310T070000
END:DAYLIGHT
BEGIN:STANDARD
TZOFFSETFROM:-0400
TZOFFSETTO:-0500
TZNAME:EST
DTSTART:20241103T060000
END:STANDARD
END:VTIMEZONE
BEGIN:VEVENT
DTSTART;TZID=America/Toronto:20241114T093000
DTEND;TZID=America/Toronto:20241114T113000
DTSTAMP:20260422T043221
CREATED:20241030T143321Z
LAST-MODIFIED:20241030T143651Z
UID:10003911-1731576600-1731583800@is-gw.ca
SUMMARY:Autism Support Services: St. Peter Catholic School
DESCRIPTION:Families with children attending St. Peter Catholic School are invited to join us in person at the school for an open discussion on all things autism with a panel of community agencies. \nAt this session\, families will have the opportunity to: \n\nask questions\nmeet community agencies and learn about their services and supports\naddress any concerns\nmeet and connect with other families at St. Peter Catholic School\n\nThe following agencies will be present: \n\nAccess Information and Referral Developmental Services\nCanadian Mental Health Association (Family Support Options and Special Services At Home – SSAH)\nCompass Community Services\nDufferin Child and Family Services (DCAFS)\nImmigrant Services Guelph-Wellington\nKerry’s Place\nKidsAbility\n\nView PDF flyer. \nLanguage interpretation is available\, based on need. Please register as soon as possible and be sure to complete the interpretation section of the registration form. \nFor more information contact Lindsay at lriddell@is-gw.ca or 519-831-1198 \n 
URL:https://is-gw.ca/event/autism-support-services-st-peter-catholic-school/
LOCATION:St. Peter Catholic School\, 150 Westwood Road\, Guelph\, Ontario\, N1H 7G1\, Canada
ORGANIZER;CN="Lindsay Riddell":MAILTO:lriddell@is-gw.ca
END:VEVENT
BEGIN:VEVENT
DTSTART;TZID=America/Toronto:20221025T090000
DTEND;TZID=America/Toronto:20221025T110000
DTSTAMP:20260422T043221
CREATED:20221007T160620Z
LAST-MODIFIED:20221017T143957Z
UID:10001496-1666688400-1666695600@is-gw.ca
SUMMARY:Connecting to Your School - St. Peter
DESCRIPTION:Are you new to Canada? \nDo you want to learn how to navigate your child’s school website and more? \nJoin our SWIS team\, in-person\, at St. Peter Catholic School\, to learn about: \n\nNavigating the school and board websites\nAccessing the school calendar\, school newsletter\nSchoolCash Online payment system\nSchool bus and inclement weather communication\nSchool fundraising events\, school trips\nPreparing your child for school (clothing\, packed lunch\, etc.)\nCommunicating with your child’s teacher\, reporting absence\nStudents arriving on time for school\n\nView PDF flyer. \nLanguage interpretation is available\, based on need. Please register early and be sure to complete the\ninterpretation section of the registration form. \nFor more information or to register\, contact Binaya at 226-821-0524 or bnyaupane@is-gw.ca \nThank you for your interest in this session. Registration is now closed.
URL:https://is-gw.ca/event/connecting-to-your-school-st-peter/
LOCATION:St. Peter Catholic School\, 150 Westwood Road\, Guelph\, Ontario\, N1H 7G1\, Canada
CATEGORIES:SWIS Information Sessions
ORGANIZER;CN="Binaya Nyaupane":MAILTO:bnyaupane@is-gw.ca
END:VEVENT
END:VCALENDAR